BEGIN:VCALENDAR
VERSION:2.0
PRODID:-//wp-events-plugin.com//7.1.7//EN
TZID:America/Chicago
X-WR-TIMEZONE:America/Chicago
BEGIN:VEVENT
UID:65@niam.org
DTSTART;TZID=America/Chicago:20140413T120000
DTEND;TZID=America/Chicago:20140413T150000
DTSTAMP:20160911T105006Z
URL:https://www.niam.org/event/amazing-india-2/
SUMMARY:AMAZING INDIA - Navy Pier Crystal Gardens - 13 Apr 14 12:00
DESCRIPTION:IT’S FESTIVE\, IT’S FREE\, IT’S FUN!\n\nCOME JOIN THE TAM
 AASHA\n\nENJOY THE ETHNIC MARKET\, FOOD\, ACTIVITIES AND PERFORMANCES\n\nN
 avy Pier’s Neighborhoods of the World series presents Amazing India on A
 pril 13\, 2014 in conjunction with the Consulate General of India and the 
 Indo-American Heritage Museum. Last year nearly 2\,000 visitors enjoyed an
  afternoon of activities\, live performances and ethnic food and merchandi
 se from Chicagoland vendors. Dancers from Chitrahar Cultural Academy\, Nat
 ya Dance Theatre\, Kalapriya Center for Indian Performing Arts\, Meher Dan
 ce Company\, Punjabi Cultural Society of Chicago and Satrangi Garba Group 
 from Indiana will keep things lively while we re-enact the spirit of a “
 mela” (festival) in the comfort of the beautiful Crystal Gardens at Navy
  Pier.\n\nAdmission is free. Bring the whole family\, and celebrate “Ama
 zing India” with us!\n\n&nbsp\;\n\n&nbsp\;\n\n&nbsp\;
LOCATION:Navy Pier Crystal Gardens\, 600 E. Grand Avenue\, Chicago\, IL\, 6
 0611\, United States
GEO:41.891552;-87.607376
X-APPLE-STRUCTURED-LOCATION;VALUE=URI;X-ADDRESS=600 E. Grand Avenue\, Chica
 go\, IL\, 60611\, United States;X-APPLE-RADIUS=100;X-TITLE=Navy Pier Cryst
 al Gardens:geo:41.891552,-87.607376
END:VEVENT
BEGIN:VTIMEZONE
TZID:America/Chicago
X-LIC-LOCATION:America/Chicago
BEGIN:DAYLIGHT
DTSTART:20140309T030000
TZOFFSETFROM:-0600
TZOFFSETTO:-0500
TZNAME:CDT
END:DAYLIGHT
END:VTIMEZONE
END:VCALENDAR