BEGIN:VCALENDAR
VERSION:2.0
PRODID:-//wp-events-plugin.com//7.1.7//EN
TZID:America/Chicago
X-WR-TIMEZONE:America/Chicago
BEGIN:VEVENT
UID:128@niam.org
DTSTART;TZID=America/Chicago:20221020T173000
DTEND;TZID=America/Chicago:20221020T190000
DTSTAMP:20221128T221143Z
URL:https://www.niam.org/event/livewireniam-20-october/
SUMMARY:Livewire@NIAM - National Indo-American Museum (NIAM) - 20 Oct 22 17
 :30
DESCRIPTION:\n\n\nLivewire is your Open Mic platform to jam\, tell us a sto
 ry\, act your heart out\, enthrall with a verse\, drop the mic... You brin
 g the talent we’ll bring the cheers!\n\n\nDate: Thursday\, October 20\, 
 2022\nTime: 5:30 PM - 7:00 PM\n\n\nGet your $5 tickets: https://www.eventc
 ombo.com/e/Livewire--Open-Mic--NIAM--56669 (includes light refreshments)\n
 \n\nYou'll have 3 minutes for any kind of spoken word performance- poetry\
 , storytelling\, comedy\, acting\, essay reading\, singing\, and even musi
 c! Not ready to take the mic? Come join the audience and enjoy the show! Y
 our $5 ticket includes light refreshments. \n\n\nThis month’s spotlight 
 performer: Sonal Aggarwal\n\n\nFormer international street performer turne
 d emcee\, Sonal Aggarwal has brought her talents to Chicago as an actor\, 
 comedian\, producer and movement artist. Her one woman show The Alchemy of
  Bliss played for a sold out weekend at Chicago’s Steppenwolf Theater an
 d you can see her on Netflix’s Easy as well as the short A Period Piece 
 which debuted at SXSW 2020. She is a regular host of The Moth.\n\n\n\n
ATTACH;FMTTYPE=image/jpeg:https://www.niam.org/wp-content/uploads/2022/10/
 Live-Wire-October-20.jpg
LOCATION:National Indo-American Museum (NIAM)\, 815 South Main Street\, Lom
 bard\, IL\, United States
X-APPLE-STRUCTURED-LOCATION;VALUE=URI;X-ADDRESS=815 South Main Street\, Lom
 bard\, IL\, United States;X-APPLE-RADIUS=100;X-TITLE=National Indo-America
 n Museum (NIAM):geo:0,0
END:VEVENT
BEGIN:VTIMEZONE
TZID:America/Chicago
X-LIC-LOCATION:America/Chicago
BEGIN:DAYLIGHT
DTSTART:20220313T030000
TZOFFSETFROM:-0600
TZOFFSETTO:-0500
TZNAME:CDT
END:DAYLIGHT
END:VTIMEZONE
END:VCALENDAR