BEGIN:VCALENDAR
VERSION:2.0
PRODID:-//wp-events-plugin.com//7.1.7//EN
TZID:America/Chicago
X-WR-TIMEZONE:America/Chicago
BEGIN:VEVENT
UID:110@niam.org
DTSTART;TZID=America/Chicago:20210424T150000
DTEND;TZID=America/Chicago:20210424T160000
DTSTAMP:20210424T064600Z
URL:https://www.niam.org/event/taste-india-2021-2/
SUMMARY:Taste of India - Virtual - 24 Apr 21 15:00
DESCRIPTION:\n\n\n\n\nNamed among the best restaurants of 2019 by Food & Wi
 ne\, Bon Appétit\, and Eater\, Adda Indian Canteen was born from the crea
 tive visions of Roni Mazumdar (restaurateur and owner) and Chintan Pandya 
 (chef and owner). At Adda\, the preparation of each dish as well as the me
 nu itself\, expresses their unique and artful blend of tradition and innov
 ation\, a presentation of popular favorites (but with a twist)\, dishes th
 at are unknown and forgotten childhood favorites.\n\nJoin us on April 24th
  to hear more from Roni and Chintan\, as they share their culinary journey
 s\, and their approach to Indian cuisine. And\, of course\, learn to make 
 some of the fantastic dishes from Adda!  \n\n\nThanks to Roni and Chintan\
 , each attendee has a chance to win a gift card from two of their restaura
 nts-- a $100 gift card to Rahi or a $50 gift card to Adda. \n\n\n\n\n\n
LOCATION:Virtual\, online\, event\, United States
X-APPLE-STRUCTURED-LOCATION;VALUE=URI;X-ADDRESS=online\, event\, United Sta
 tes;X-APPLE-RADIUS=100;X-TITLE=Virtual:geo:0,0
END:VEVENT
BEGIN:VTIMEZONE
TZID:America/Chicago
X-LIC-LOCATION:America/Chicago
BEGIN:DAYLIGHT
DTSTART:20210314T030000
TZOFFSETFROM:-0600
TZOFFSETTO:-0500
TZNAME:CDT
END:DAYLIGHT
END:VTIMEZONE
END:VCALENDAR